BEGIN:VCALENDAR
VERSION:2.0
PRODID:-//Le Cocotier(s) - ECPv6.15.20//NONSGML v1.0//EN
CALSCALE:GREGORIAN
METHOD:PUBLISH
X-WR-CALNAME:Le Cocotier(s)
X-ORIGINAL-URL:https://www.lecocotiers.fr
X-WR-CALDESC:Évènements pour Le Cocotier(s)
REFRESH-INTERVAL;VALUE=DURATION:PT1H
X-Robots-Tag:noindex
X-PUBLISHED-TTL:PT1H
BEGIN:VTIMEZONE
TZID:Europe/Paris
BEGIN:DAYLIGHT
TZOFFSETFROM:+0100
TZOFFSETTO:+0200
TZNAME:CEST
DTSTART:20250330T010000
END:DAYLIGHT
BEGIN:STANDARD
TZOFFSETFROM:+0200
TZOFFSETTO:+0100
TZNAME:CET
DTSTART:20251026T010000
END:STANDARD
BEGIN:DAYLIGHT
TZOFFSETFROM:+0100
TZOFFSETTO:+0200
TZNAME:CEST
DTSTART:20260329T010000
END:DAYLIGHT
BEGIN:STANDARD
TZOFFSETFROM:+0200
TZOFFSETTO:+0100
TZNAME:CET
DTSTART:20261025T010000
END:STANDARD
BEGIN:DAYLIGHT
TZOFFSETFROM:+0100
TZOFFSETTO:+0200
TZNAME:CEST
DTSTART:20270328T010000
END:DAYLIGHT
BEGIN:STANDARD
TZOFFSETFROM:+0200
TZOFFSETTO:+0100
TZNAME:CET
DTSTART:20271031T010000
END:STANDARD
END:VTIMEZONE
BEGIN:VEVENT
DTSTART;TZID=Europe/Paris:20260424T170000
DTEND;TZID=Europe/Paris:20260424T183000
DTSTAMP:20260424T073430
CREATED:20260106T090918Z
LAST-MODIFIED:20260316T135532Z
UID:10000363-1777050000-1777055400@www.lecocotiers.fr
SUMMARY:Tricot
DESCRIPTION:Le groupe « Tricot » se réunit le vendredi à 17h au Cocotier(s) pour apprendre l’art créatif et relaxant du tricot ! Que vous souhaitiez faire une écharpe\, un pull ou des chaussons de bébé\, Fabienne sera là pour vous montrer comment faire. \nPour participer\, venez avec vos aiguilles à tricoter ! Pour toute question\, contactez Fabienne au 06 68 33 82 55. \nPour participer\nActivité gratuite\, ouverte à tous les membres du Cocotier(s). \nPour adhérer\, rien de plus simple : payez en ligne via HelloAsso ou demandez à remplir un bulletin d’adhésion sur place. \nPour 5€ l’année (valable du 1er janvier au 31 décembre)\, vous accédez gratuitement à toutes nos activités !
URL:https://www.lecocotiers.fr/rdv/tricot-2/2026-04-24/
LOCATION:Le Cocotier(s)\, 6 rue d'Arros\, ARUDY\, 64260
ATTACH;FMTTYPE=image/jpeg:https://www.lecocotiers.fr/wp-content/uploads/2025/10/pexels-photo-2897128-2897128.jpg
END:VEVENT
END:VCALENDAR